BEGIN:VCALENDAR
VERSION:2.0
PRODID:-//Kleingartenkolonie Kühler Grund - ECPv5.9.1//NONSGML v1.0//EN
CALSCALE:GREGORIAN
METHOD:PUBLISH
X-WR-CALNAME:Kleingartenkolonie Kühler Grund
X-ORIGINAL-URL:https://kolonie-kuehler-grund.de
X-WR-CALDESC:Veranstaltungen für Kleingartenkolonie Kühler Grund
BEGIN:VTIMEZONE
TZID:UTC
BEGIN:STANDARD
TZOFFSETFROM:+0000
TZOFFSETTO:+0000
TZNAME:UTC
DTSTART:20260101T000000
END:STANDARD
END:VTIMEZONE
BEGIN:VEVENT
DTSTART;TZID=UTC:20260906T110000
DTEND;TZID=UTC:20260906T140000
DTSTAMP:20260419T134623
CREATED:20260201T150037Z
LAST-MODIFIED:20260201T150037Z
UID:650-1788692400-1788703200@kolonie-kuehler-grund.de
SUMMARY:2. Jahreshauptversammlung 11:00 Uhr
DESCRIPTION:
URL:https://kolonie-kuehler-grund.de/event/2-jahreshauptversammlung-1100-uhr/
END:VEVENT
END:VCALENDAR