BEGIN:VCALENDAR
VERSION:2.0
PRODID:-//Kleingartenkolonie Kühler Grund - ECPv5.9.1//NONSGML v1.0//EN
CALSCALE:GREGORIAN
METHOD:PUBLISH
X-WR-CALNAME:Kleingartenkolonie Kühler Grund
X-ORIGINAL-URL:https://kolonie-kuehler-grund.de
X-WR-CALDESC:Veranstaltungen für Kleingartenkolonie Kühler Grund
BEGIN:VTIMEZONE
TZID:UTC
BEGIN:STANDARD
TZOFFSETFROM:+0000
TZOFFSETTO:+0000
TZNAME:UTC
DTSTART:20260101T000000
END:STANDARD
END:VTIMEZONE
BEGIN:VEVENT
DTSTART;VALUE=DATE:20261010
DTEND;VALUE=DATE:20261011
DTSTAMP:20260419T164221
CREATED:20260201T152740Z
LAST-MODIFIED:20260201T152740Z
UID:660-1791590400-1791676799@kolonie-kuehler-grund.de
SUMMARY:Gemeinschaftsarbeit
DESCRIPTION:
URL:https://kolonie-kuehler-grund.de/event/gemeinschaftsarbeit-4/
END:VEVENT
END:VCALENDAR