BEGIN:VCALENDAR
VERSION:2.0
PRODID:-//Kleingartenkolonie Kühler Grund - ECPv5.9.1//NONSGML v1.0//EN
CALSCALE:GREGORIAN
METHOD:PUBLISH
X-WR-CALNAME:Kleingartenkolonie Kühler Grund
X-ORIGINAL-URL:https://kolonie-kuehler-grund.de
X-WR-CALDESC:Veranstaltungen für Kleingartenkolonie Kühler Grund
BEGIN:VTIMEZONE
TZID:UTC
BEGIN:STANDARD
TZOFFSETFROM:+0000
TZOFFSETTO:+0000
TZNAME:UTC
DTSTART:20260101T000000
END:STANDARD
END:VTIMEZONE
BEGIN:VEVENT
DTSTART;VALUE=DATE:20261029
DTEND;VALUE=DATE:20261030
DTSTAMP:20260419T164216
CREATED:20260201T152930Z
LAST-MODIFIED:20260201T152930Z
UID:666-1793232000-1793318399@kolonie-kuehler-grund.de
SUMMARY:LETZTE MÜLLABHOLUNG
DESCRIPTION:LETZTE MÜLLABHOLUNG
URL:https://kolonie-kuehler-grund.de/event/letzte-muellabholung-3/
END:VEVENT
END:VCALENDAR