BEGIN:VCALENDAR
VERSION:2.0
PRODID:-//Kleingartenkolonie Kühler Grund - ECPv5.9.1//NONSGML v1.0//EN
CALSCALE:GREGORIAN
METHOD:PUBLISH
X-WR-CALNAME:Kleingartenkolonie Kühler Grund
X-ORIGINAL-URL:https://kolonie-kuehler-grund.de
X-WR-CALDESC:Veranstaltungen für Kleingartenkolonie Kühler Grund
BEGIN:VTIMEZONE
TZID:UTC
BEGIN:STANDARD
TZOFFSETFROM:+0000
TZOFFSETTO:+0000
TZNAME:UTC
DTSTART:20260101T000000
END:STANDARD
END:VTIMEZONE
BEGIN:VEVENT
DTSTART;TZID=UTC:20261114T100000
DTEND;TZID=UTC:20261114T130000
DTSTAMP:20260419T182254
CREATED:20260201T153036Z
LAST-MODIFIED:20260201T153036Z
UID:668-1794650400-1794661200@kolonie-kuehler-grund.de
SUMMARY:Wasserabstellen
DESCRIPTION:10:00 bis 11:30 Uhr Uhr Parzelle 1 bis 31 \n11:30 bis 13:00 Uhr Parzelle 32 bis 66
URL:https://kolonie-kuehler-grund.de/event/wasserabstellen/
END:VEVENT
END:VCALENDAR