BEGIN:VCALENDAR
VERSION:2.0
PRODID:-//Kleingartenkolonie Kühler Grund - ECPv5.9.1//NONSGML v1.0//EN
CALSCALE:GREGORIAN
METHOD:PUBLISH
X-WR-CALNAME:Kleingartenkolonie Kühler Grund
X-ORIGINAL-URL:https://kolonie-kuehler-grund.de
X-WR-CALDESC:Veranstaltungen für Kleingartenkolonie Kühler Grund
BEGIN:VTIMEZONE
TZID:UTC
BEGIN:STANDARD
TZOFFSETFROM:+0000
TZOFFSETTO:+0000
TZNAME:UTC
DTSTART:20260101T000000
END:STANDARD
END:VTIMEZONE
BEGIN:VEVENT
DTSTART;VALUE=DATE:20260606
DTEND;VALUE=DATE:20260607
DTSTAMP:20260421T081912
CREATED:20260201T145029Z
LAST-MODIFIED:20260201T145029Z
UID:617-1780704000-1780790399@kolonie-kuehler-grund.de
SUMMARY:125 Jahrfeier Verband
DESCRIPTION:
URL:https://kolonie-kuehler-grund.de/event/125-jahrfeier-verband/
END:VEVENT
BEGIN:VEVENT
DTSTART;TZID=UTC:20260607T103000
DTEND;TZID=UTC:20260607T120000
DTSTAMP:20260421T081912
CREATED:20260201T145105Z
LAST-MODIFIED:20260201T145105Z
UID:619-1780828200-1780833600@kolonie-kuehler-grund.de
SUMMARY:Vorstandsprechstunde (10:30 bis 12:00 Uhr)
DESCRIPTION:
URL:https://kolonie-kuehler-grund.de/event/vorstandsprechstunde-1030-bis-1200-uhr-2/
END:VEVENT
BEGIN:VEVENT
DTSTART;VALUE=DATE:20260611
DTEND;VALUE=DATE:20260612
DTSTAMP:20260421T081912
CREATED:20260201T145127Z
LAST-MODIFIED:20260201T145127Z
UID:621-1781136000-1781222399@kolonie-kuehler-grund.de
SUMMARY:Müllabholung
DESCRIPTION:
URL:https://kolonie-kuehler-grund.de/event/muellabholung-13/
END:VEVENT
BEGIN:VEVENT
DTSTART;VALUE=DATE:20260620
DTEND;VALUE=DATE:20260621
DTSTAMP:20260421T081912
CREATED:20260201T145148Z
LAST-MODIFIED:20260201T145148Z
UID:623-1781913600-1781999999@kolonie-kuehler-grund.de
SUMMARY:Gemeinschaftsarbeit
DESCRIPTION:
URL:https://kolonie-kuehler-grund.de/event/gemeinschaftsarbeit-2/
END:VEVENT
BEGIN:VEVENT
DTSTART;VALUE=DATE:20260625
DTEND;VALUE=DATE:20260626
DTSTAMP:20260421T081912
CREATED:20260201T145218Z
LAST-MODIFIED:20260201T145218Z
UID:625-1782345600-1782431999@kolonie-kuehler-grund.de
SUMMARY:Müllabholung
DESCRIPTION:
URL:https://kolonie-kuehler-grund.de/event/muellabholung-14/
END:VEVENT
BEGIN:VEVENT
DTSTART;VALUE=DATE:20260627
DTEND;VALUE=DATE:20260628
DTSTAMP:20260421T081912
CREATED:20260201T145249Z
LAST-MODIFIED:20260201T145249Z
UID:627-1782518400-1782604799@kolonie-kuehler-grund.de
SUMMARY:Sommerfest
DESCRIPTION:
URL:https://kolonie-kuehler-grund.de/event/sommerfest-2/
END:VEVENT
END:VCALENDAR