BEGIN:VCALENDAR
VERSION:2.0
PRODID:-//Kleingartenkolonie Kühler Grund - ECPv5.9.1//NONSGML v1.0//EN
CALSCALE:GREGORIAN
METHOD:PUBLISH
X-WR-CALNAME:Kleingartenkolonie Kühler Grund
X-ORIGINAL-URL:https://kolonie-kuehler-grund.de
X-WR-CALDESC:Veranstaltungen für Kleingartenkolonie Kühler Grund
BEGIN:VTIMEZONE
TZID:UTC
BEGIN:STANDARD
TZOFFSETFROM:+0000
TZOFFSETTO:+0000
TZNAME:UTC
DTSTART:20260101T000000
END:STANDARD
END:VTIMEZONE
BEGIN:VEVENT
DTSTART;TZID=UTC:20260802T103000
DTEND;TZID=UTC:20260802T120000
DTSTAMP:20260419T121537
CREATED:20260201T145624Z
LAST-MODIFIED:20260201T145624Z
UID:639-1785666600-1785672000@kolonie-kuehler-grund.de
SUMMARY:Vorstandsprechstunde (10:30 bis 12:00 Uhr)
DESCRIPTION:
URL:https://kolonie-kuehler-grund.de/event/vorstandsprechstunde-1030-bis-1200-uhr-4/
END:VEVENT
BEGIN:VEVENT
DTSTART;VALUE=DATE:20260806
DTEND;VALUE=DATE:20260807
DTSTAMP:20260419T121537
CREATED:20260201T145649Z
LAST-MODIFIED:20260201T145649Z
UID:641-1785974400-1786060799@kolonie-kuehler-grund.de
SUMMARY:Müllabholung
DESCRIPTION:
URL:https://kolonie-kuehler-grund.de/event/muellabholung-17/
END:VEVENT
BEGIN:VEVENT
DTSTART;VALUE=DATE:20260820
DTEND;VALUE=DATE:20260821
DTSTAMP:20260419T121537
CREATED:20260201T145708Z
LAST-MODIFIED:20260201T145708Z
UID:643-1787184000-1787270399@kolonie-kuehler-grund.de
SUMMARY:Müllabholung
DESCRIPTION:
URL:https://kolonie-kuehler-grund.de/event/muellabholung-18/
END:VEVENT
BEGIN:VEVENT
DTSTART;VALUE=DATE:20260822
DTEND;VALUE=DATE:20260823
DTSTAMP:20260419T121537
CREATED:20260201T145738Z
LAST-MODIFIED:20260201T145738Z
UID:645-1787356800-1787443199@kolonie-kuehler-grund.de
SUMMARY:Gemeinschaftsarbeit (Ende Sommerferien)
DESCRIPTION:
URL:https://kolonie-kuehler-grund.de/event/gemeinschaftsarbeit-ende-sommerferien/
END:VEVENT
END:VCALENDAR