BEGIN:VCALENDAR
VERSION:2.0
PRODID:-//Kleingartenkolonie Kühler Grund - ECPv5.9.1//NONSGML v1.0//EN
CALSCALE:GREGORIAN
METHOD:PUBLISH
X-WR-CALNAME:Kleingartenkolonie Kühler Grund
X-ORIGINAL-URL:https://kolonie-kuehler-grund.de
X-WR-CALDESC:Veranstaltungen für Kleingartenkolonie Kühler Grund
BEGIN:VTIMEZONE
TZID:UTC
BEGIN:STANDARD
TZOFFSETFROM:+0000
TZOFFSETTO:+0000
TZNAME:UTC
DTSTART:20260101T000000
END:STANDARD
END:VTIMEZONE
BEGIN:VEVENT
DTSTART;VALUE=DATE:20261001
DTEND;VALUE=DATE:20261002
DTSTAMP:20260419T164511
CREATED:20260201T152708Z
LAST-MODIFIED:20260201T152708Z
UID:658-1790812800-1790899199@kolonie-kuehler-grund.de
SUMMARY:Müllabholung
DESCRIPTION:
URL:https://kolonie-kuehler-grund.de/event/muellabholung-21/
END:VEVENT
BEGIN:VEVENT
DTSTART;VALUE=DATE:20261010
DTEND;VALUE=DATE:20261011
DTSTAMP:20260419T164511
CREATED:20260201T152740Z
LAST-MODIFIED:20260201T152740Z
UID:660-1791590400-1791676799@kolonie-kuehler-grund.de
SUMMARY:Gemeinschaftsarbeit
DESCRIPTION:
URL:https://kolonie-kuehler-grund.de/event/gemeinschaftsarbeit-4/
END:VEVENT
BEGIN:VEVENT
DTSTART;TZID=UTC:20261011T103000
DTEND;TZID=UTC:20261011T120000
DTSTAMP:20260419T164511
CREATED:20260201T152813Z
LAST-MODIFIED:20260201T152813Z
UID:662-1791714600-1791720000@kolonie-kuehler-grund.de
SUMMARY:Vorstandsprechstunde (10:30 bis 12:00 Uhr)
DESCRIPTION:
URL:https://kolonie-kuehler-grund.de/event/vorstandsprechstunde-1030-bis-1200-uhr-6/
END:VEVENT
BEGIN:VEVENT
DTSTART;VALUE=DATE:20261015
DTEND;VALUE=DATE:20261016
DTSTAMP:20260419T164511
CREATED:20260201T152833Z
LAST-MODIFIED:20260201T152833Z
UID:664-1792022400-1792108799@kolonie-kuehler-grund.de
SUMMARY:Müllabholung
DESCRIPTION:
URL:https://kolonie-kuehler-grund.de/event/muellabholung-22/
END:VEVENT
BEGIN:VEVENT
DTSTART;VALUE=DATE:20261029
DTEND;VALUE=DATE:20261030
DTSTAMP:20260419T164511
CREATED:20260201T152930Z
LAST-MODIFIED:20260201T152930Z
UID:666-1793232000-1793318399@kolonie-kuehler-grund.de
SUMMARY:LETZTE MÜLLABHOLUNG
DESCRIPTION:LETZTE MÜLLABHOLUNG
URL:https://kolonie-kuehler-grund.de/event/letzte-muellabholung-3/
END:VEVENT
END:VCALENDAR